BEGIN:VCALENDAR
VERSION:2.0
PRODID:-//Village Toy Funatic - ECPv6.15.20//NONSGML v1.0//EN
CALSCALE:GREGORIAN
METHOD:PUBLISH
X-WR-CALNAME:Village Toy Funatic
X-ORIGINAL-URL:https://villagetoyfunatic.com
X-WR-CALDESC:Events for Village Toy Funatic
REFRESH-INTERVAL;VALUE=DURATION:PT1H
X-Robots-Tag:noindex
X-PUBLISHED-TTL:PT1H
BEGIN:VTIMEZONE
TZID:America/New_York
BEGIN:DAYLIGHT
TZOFFSETFROM:-0500
TZOFFSETTO:-0400
TZNAME:EDT
DTSTART:20240310T070000
END:DAYLIGHT
BEGIN:STANDARD
TZOFFSETFROM:-0400
TZOFFSETTO:-0500
TZNAME:EST
DTSTART:20241103T060000
END:STANDARD
BEGIN:DAYLIGHT
TZOFFSETFROM:-0500
TZOFFSETTO:-0400
TZNAME:EDT
DTSTART:20250309T070000
END:DAYLIGHT
BEGIN:STANDARD
TZOFFSETFROM:-0400
TZOFFSETTO:-0500
TZNAME:EST
DTSTART:20251102T060000
END:STANDARD
BEGIN:DAYLIGHT
TZOFFSETFROM:-0500
TZOFFSETTO:-0400
TZNAME:EDT
DTSTART:20260308T070000
END:DAYLIGHT
BEGIN:STANDARD
TZOFFSETFROM:-0400
TZOFFSETTO:-0500
TZNAME:EST
DTSTART:20261101T060000
END:STANDARD
BEGIN:DAYLIGHT
TZOFFSETFROM:-0500
TZOFFSETTO:-0400
TZNAME:EDT
DTSTART:20270314T070000
END:DAYLIGHT
BEGIN:STANDARD
TZOFFSETFROM:-0400
TZOFFSETTO:-0500
TZNAME:EST
DTSTART:20271107T060000
END:STANDARD
END:VTIMEZONE
BEGIN:VEVENT
DTSTART;TZID=America/New_York:20251212T080000
DTEND;TZID=America/New_York:20251214T170000
DTSTAMP:20260425T121229
CREATED:20251211T145951Z
LAST-MODIFIED:20251211T145951Z
UID:6776-1765526400-1765731600@villagetoyfunatic.com
SUMMARY:Christmas By the Sea Weekend
DESCRIPTION:There’s a special kind of magic that settles over Ogunquit every December\, and it all comes to life during Christmas by the Sea—our favorite weekend of the entire year. The Ogunquit Chamber of Commerce has once again poured their hearts into creating a celebration that is festive\, warm\, and wonderfully memorable. \nStroll through town and you’ll see it everywhere: twinkling lights\, beautifully decorated storefronts\, cozy restaurants\, and that unmistakable sense of holiday cheer. With perfect weather on the horizon\, it’s the ideal weekend to bundle up\, explore\, and enjoy everything Ogunquit has to offer. \nInside The Village Toy Funatic\, the holiday spirit is in full swing! Our shelves are packed with LEGO sets\, BRUDER trucks\, Jellycats\, arts & crafts\, books\, puzzles\, games\, plush\, baby gifts\, adult books\, and more stocking stuffers than Santa himself could carry. Whether you’re shopping for little ones or grown-up kids at heart\, we’re here to help you find just the right gift. Our toy experts—Santa’s Elves in disguise—are ready and excited to help. \nWe can’t wait to celebrate this beautiful season with you.Happy Holidays from all of us at The Village Toy Funatic! 🎄✨ \nEdited in Prisma app with Comic
URL:https://villagetoyfunatic.com/event/christmas-by-the-sea-weekend-2/
LOCATION:Village Toy Funatic\, 232 Main Street\, Ogunquit\, Maine\, 03907
END:VEVENT
BEGIN:VEVENT
DTSTART;TZID=America/New_York:20251212T170000
DTEND;TZID=America/New_York:20251212T200000
DTSTAMP:20260425T121229
CREATED:20251204T172854Z
LAST-MODIFIED:20251204T172854Z
UID:6770-1765558800-1765569600@villagetoyfunatic.com
SUMMARY:Sip\,Stroll and Snuggle Evening
DESCRIPTION:Join us from 5pm-8pm for a festive evening of shopping and holiday cheer before the Main Street Tree Lighting at 8:15pm \nSpend $35 during Sip and Stroll and choose a cuddly stuffed animal for FREE to take home! The perfect companion for the season! \nStroll in\, warm up and find some magic! \nWe can’t wait to see you! \n  \n 
URL:https://villagetoyfunatic.com/event/sipstroll-and-snuggle-evening/
LOCATION:Village Toy Funatic\, 232 Main Street\, Ogunquit\, Maine\, 03907
ORGANIZER;CN="VIllage Toy Funatic":MAILTO:toys@villagetoyfunatic.com
END:VEVENT
BEGIN:VEVENT
DTSTART;VALUE=DATE:20260129
DTEND;VALUE=DATE:20260223
DTSTAMP:20260425T121229
CREATED:20251223T151427Z
LAST-MODIFIED:20251223T161216Z
UID:6785-1769644800-1771804799@villagetoyfunatic.com
SUMMARY:Enter the Village Toy Funatic’s 8th Annual LEGO® Build-Off!
DESCRIPTION:Think Big. Build Bigger.\nEnter the Village Toy Funatic’s 8th Annual LEGO® Build-Off!\nCalling all builders\, dreamers\, and LEGO lovers! Using your own LEGO collection\, create an original masterpiece that shows off your imagination and creativity. Your build can be inspired by a favorite book\, a special memory\, an epic vehicle\, a magical flying machine\, a fierce or friendly animal—or anything you can dream up. \nPro tip: Borrowing pieces from your LEGO sets is encouraged—but following official set instructions is not. Original designs only! \nWhen your creation is complete\, drop it off at The Village Toy Funatic between January 29 and February 22. All entries will be proudly displayed in our front windows on Main Street in Ogunquit\, where the whole community can admire your work. \nDon’t worry—every build will be safely returned after the event. \nLet your imagination run wild—and let the building begin! \nVoting & Prizes\nThe earlier you submit your build\, the longer it will be on display for friends\, family\, and shoppers to admire—and vote for! Winners will be announced on February 28 and selected through a combination of customer votes and our in-store Toy Funatic Experts. \nThere will be two winners in each age category\, so everyone has a chance to shine! \nAge Categories\nAges 3-5 \nAges 6-8 \nAges 9-13 \nAges 14-17 \nAges 18+ (Yes Big Kids can enter too!) \nRules & Guidelines\nOne entry per person \nMaximum size: 15″ x 15″ (the size of a LEGO base plate). All builds must be securely attached to a board. \nBe creative! Original designs only—no help from others and no following LEGO set instructions. \nGive your masterpiece a fun\, creative name! \nImportant Dates\nBuild-Off Dates: January 29–February 22(Drop-off during store hours: Thursday–Sunday\, plus every day during February vacation week) \nWinners Announced: February 28 \nPick-Up Begins: March 1st \nWhether you’re a first-time builder or a seasoned LEGO pro\, this is your moment to let your creativity shine. Gather your bricks\, dream big\, and join the fun—let’s make this winter unforgettable\, one brick at a time! \nP.S. Early submissions mean more time for your creation to be admired in our windows\, so don’t wait!
URL:https://villagetoyfunatic.com/event/enter-the-village-toy-funatics-8th-annual-lego-build-off/
LOCATION:Village Toy Funatic\, 232 Main Street\, Ogunquit\, Maine\, 03907
ATTACH;FMTTYPE=image/jpeg:https://villagetoyfunatic.com/wp-content/uploads/2024/01/lego-helpers.jpg
END:VEVENT
END:VCALENDAR