BEGIN:VCALENDAR
VERSION:2.0
PRODID:-//Village Toy Funatic - ECPv6.15.20//NONSGML v1.0//EN
CALSCALE:GREGORIAN
METHOD:PUBLISH
X-ORIGINAL-URL:https://villagetoyfunatic.com
X-WR-CALDESC:Events for Village Toy Funatic
REFRESH-INTERVAL;VALUE=DURATION:PT1H
X-Robots-Tag:noindex
X-PUBLISHED-TTL:PT1H
BEGIN:VTIMEZONE
TZID:America/New_York
BEGIN:DAYLIGHT
TZOFFSETFROM:-0500
TZOFFSETTO:-0400
TZNAME:EDT
DTSTART:20230312T070000
END:DAYLIGHT
BEGIN:STANDARD
TZOFFSETFROM:-0400
TZOFFSETTO:-0500
TZNAME:EST
DTSTART:20231105T060000
END:STANDARD
BEGIN:DAYLIGHT
TZOFFSETFROM:-0500
TZOFFSETTO:-0400
TZNAME:EDT
DTSTART:20240310T070000
END:DAYLIGHT
BEGIN:STANDARD
TZOFFSETFROM:-0400
TZOFFSETTO:-0500
TZNAME:EST
DTSTART:20241103T060000
END:STANDARD
BEGIN:DAYLIGHT
TZOFFSETFROM:-0500
TZOFFSETTO:-0400
TZNAME:EDT
DTSTART:20250309T070000
END:DAYLIGHT
BEGIN:STANDARD
TZOFFSETFROM:-0400
TZOFFSETTO:-0500
TZNAME:EST
DTSTART:20251102T060000
END:STANDARD
END:VTIMEZONE
BEGIN:VEVENT
DTSTART;TZID=America/New_York:20241026T120000
DTEND;TZID=America/New_York:20241026T140000
DTSTAMP:20260424T113023
CREATED:20240924T141254Z
LAST-MODIFIED:20240924T141254Z
UID:6484-1729944000-1729951200@villagetoyfunatic.com
SUMMARY:Book Signing with R.W. Alley - Illustrator of Paddington Books
DESCRIPTION:We are excited to announce that R.W. Alley\, the talented and world-renowned artist behind the beloved Paddington Bear books\, will be returning to The Village Toy Funatic during OgunquitFest for a special book signing event! \nDate: Saturday\, October 26\nTime: 12:00 PM – 2:00 PM\nLocation: The Village Toy Funatic \nBefore the book signing\, R.W. Alley will be hosting a drawing event where you can see firsthand how Paddington comes to life through his art. This is a rare chance to watch a master illustrator in action! \nR.W. Alley is the acclaimed illustrator of the beloved Paddington Bear books\, whose whimsical and charming artwork has brought Paddington to life for readers around the world. His work spans decades\, making him a key figure in children’s literature\, known for capturing the adventurous and heartwarming spirit of this classic character.\nAt this event\, you’ll have the chance to meet R.W. Alley\, get your books signed\, and even pick up a copy of his latest release\, Firefighters to the Rescue. \nWe’ll also have a large selection of Paddington books available\, including NEW to the U.S. market titles like: \n\nPaddington Christmas Post\nPaddington and the Grand Tour\nPaddington at the Tower\n\nWant to beat the lines or can’t make it\, pre-orders are available! Pre-order before your trip to Ogunquit and they will be waiting for you when you arrive! Call the store for more information  and we will make the magic happen.  Shipping is available. 207-646-7728 \nDon’t miss this exciting opportunity to meet a legendary illustrator\, witness a live drawing session\, and take home a special piece of Paddington magic. \nSee you at OgunquitFest! \nBooks available during book signing including the NEW books listed above\nA Bear Called Paddington\nPaddington Treasury\nPaddington at the Beach\nPaddington and the Christmas Surprise\nFirefighters to the Rescue\nPRE-ORDER Hospital Heroes Save the Day \n   \n     
URL:https://villagetoyfunatic.com/event/book-signing-with-r-w-alley-illustrator-of-paddington-books/
LOCATION:Village Toy Funatic\, 232 Main Street\, Ogunquit\, Maine\, 03907
ORGANIZER;CN="VIllage Toy Funatic":MAILTO:toys@villagetoyfunatic.com
END:VEVENT
END:VCALENDAR