BEGIN:VCALENDAR
VERSION:2.0
PRODID:-//Village Toy Funatic - ECPv6.15.20//NONSGML v1.0//EN
CALSCALE:GREGORIAN
METHOD:PUBLISH
X-WR-CALNAME:Village Toy Funatic
X-ORIGINAL-URL:https://villagetoyfunatic.com
X-WR-CALDESC:Events for Village Toy Funatic
REFRESH-INTERVAL;VALUE=DURATION:PT1H
X-Robots-Tag:noindex
X-PUBLISHED-TTL:PT1H
BEGIN:VTIMEZONE
TZID:America/New_York
BEGIN:DAYLIGHT
TZOFFSETFROM:-0500
TZOFFSETTO:-0400
TZNAME:EDT
DTSTART:20230312T070000
END:DAYLIGHT
BEGIN:STANDARD
TZOFFSETFROM:-0400
TZOFFSETTO:-0500
TZNAME:EST
DTSTART:20231105T060000
END:STANDARD
BEGIN:DAYLIGHT
TZOFFSETFROM:-0500
TZOFFSETTO:-0400
TZNAME:EDT
DTSTART:20240310T070000
END:DAYLIGHT
BEGIN:STANDARD
TZOFFSETFROM:-0400
TZOFFSETTO:-0500
TZNAME:EST
DTSTART:20241103T060000
END:STANDARD
BEGIN:DAYLIGHT
TZOFFSETFROM:-0500
TZOFFSETTO:-0400
TZNAME:EDT
DTSTART:20250309T070000
END:DAYLIGHT
BEGIN:STANDARD
TZOFFSETFROM:-0400
TZOFFSETTO:-0500
TZNAME:EST
DTSTART:20251102T060000
END:STANDARD
END:VTIMEZONE
BEGIN:VEVENT
DTSTART;TZID=America/New_York:20240309T130000
DTEND;TZID=America/New_York:20240309T143000
DTSTAMP:20260422T065443
CREATED:20240205T175303Z
LAST-MODIFIED:20240205T180438Z
UID:6378-1709989200-1709994600@villagetoyfunatic.com
SUMMARY:Author Tonya Shevenell to autograph her latest children’s book\, "Hop Onward Rabbit Rabbit: A New England Cottontail’s Journey."
DESCRIPTION:We are thrilled to welcome Tonya Shevenell back to the store\, presenting her latest book titled “Hop Onward Rabbit Rabbit: A New England Cottontail’s Journey.” Both this new release and her initial work\, “The Maine Birthday Book\,” boast captivating writing and delightful illustrations. Make sure to add her new book to your Easter collection—it’s a perfect addition! \nHop Onward Rabbit Rabbit: A New England Cottontail’s Journey was born from Shevenell’s unlikely summer of observing Maine state endangered cottontails in 2020. “I learned about them\, from them\,” Shevenell says\, “and by the end of the summer\, I wanted to help tell their story.” \nThe odds are stacked against New England cottontails. They require the dense cover of thickets found in young forest and shrublands to survive. Their worldwide range is New England and Eastern NY\, but the pockets of suitable habitat are fragmented\, and they have a long list of natural predators. Biologists estimate there are around 300 New England cottontails in Maine\, and even less in New Hampshire. York County is home to some of the Maine rabbits. \n\n\n\nShevenell has once again collaborated with watercolor artist Laura Winslow\, the illustrator of her initial work\, “The Maine Birthday Book.” Together\, they narrate the tale of a solitary New England cottontail in search of companionship. Travelling through diverse habitats and experiencing the changing seasons in Maine\, the rabbit encounters unusual animals\, unexpected allies\, and eventually\, a steadfast friend. The book not only entertains but also educates\, with end pages providing information about all the species encountered during the rabbit’s journey. It includes photos and facts about the real rabbits that inspired the story. \nJoin Tonya Shevenell for a book signing event featuring both of her children’s books at Village Toy Funatic\, 232 Main Street in Ogunquit\, on Saturday\, March 9th\, from 1:00-2:30 pm. To learn more or pre-order your signed books\, contact Village Toy Funatic at 207-646-7728. \n \n 
URL:https://villagetoyfunatic.com/event/author-tonya-shevenell-to-autograph-her-latest-childrens-book-hop-onward-rabbit-rabbit-a-new-england-cottontails-journey/
LOCATION:Village Toy Funatic\, 232 Main Street\, Ogunquit\, Maine\, 03907
END:VEVENT
END:VCALENDAR